BEGIN:VCALENDAR
VERSION:2.0
PRODID:-//Desert Cruzin - ECPv6.15.20//NONSGML v1.0//EN
CALSCALE:GREGORIAN
METHOD:PUBLISH
X-WR-CALNAME:Desert Cruzin
X-ORIGINAL-URL:https://desertcruzin.com
X-WR-CALDESC:Events for Desert Cruzin
REFRESH-INTERVAL;VALUE=DURATION:PT1H
X-Robots-Tag:noindex
X-PUBLISHED-TTL:PT1H
BEGIN:VTIMEZONE
TZID:America/Denver
BEGIN:DAYLIGHT
TZOFFSETFROM:-0700
TZOFFSETTO:-0600
TZNAME:MDT
DTSTART:20230312T090000
END:DAYLIGHT
BEGIN:STANDARD
TZOFFSETFROM:-0600
TZOFFSETTO:-0700
TZNAME:MST
DTSTART:20231105T080000
END:STANDARD
BEGIN:DAYLIGHT
TZOFFSETFROM:-0700
TZOFFSETTO:-0600
TZNAME:MDT
DTSTART:20240310T090000
END:DAYLIGHT
BEGIN:STANDARD
TZOFFSETFROM:-0600
TZOFFSETTO:-0700
TZNAME:MST
DTSTART:20241103T080000
END:STANDARD
BEGIN:DAYLIGHT
TZOFFSETFROM:-0700
TZOFFSETTO:-0600
TZNAME:MDT
DTSTART:20250309T090000
END:DAYLIGHT
BEGIN:STANDARD
TZOFFSETFROM:-0600
TZOFFSETTO:-0700
TZNAME:MST
DTSTART:20251102T080000
END:STANDARD
END:VTIMEZONE
BEGIN:VTIMEZONE
TZID:UTC
BEGIN:STANDARD
TZOFFSETFROM:+0000
TZOFFSETTO:+0000
TZNAME:UTC
DTSTART:20230101T000000
END:STANDARD
END:VTIMEZONE
BEGIN:VEVENT
DTSTART;TZID=America/Denver:20241102T080000
DTEND;TZID=America/Denver:20241102T100000
DTSTAMP:20260419T183500
CREATED:20230427T200356Z
LAST-MODIFIED:20230427T200356Z
UID:10002026-1730534400-1730541600@desertcruzin.com
SUMMARY:Cars & Coffee Mesquite Elk’s Lodge
DESCRIPTION:Cars & Coffee Mesquite Elk’s Lodge 8 AM – 10 AM Pacific Time – 1st & 3rd Saturday
URL:https://desertcruzin.com/event/cars-coffee-mesquite-elks-lodge/2024-11-02/
LOCATION:UT
END:VEVENT
BEGIN:VEVENT
DTSTART;TZID=America/Denver:20241105T080000
DTEND;TZID=America/Denver:20241105T170000
DTSTAMP:20260419T183500
CREATED:20230427T203655Z
LAST-MODIFIED:20230427T203655Z
UID:10002098-1730793600-1730826000@desertcruzin.com
SUMMARY:Rooster Run Cruise In And Show & Shine
DESCRIPTION:Rooster Run Cruise In And Show & Shine
URL:https://desertcruzin.com/event/rooster-run-cruise-in-and-show-shine/2024-11-05/
LOCATION:UT
ATTACH;FMTTYPE=image/jpeg:https://desertcruzin.com/wp-content/uploads/2023/04/Rooster-Run-scaled.jpg
END:VEVENT
BEGIN:VEVENT
DTSTART;TZID=UTC:20241105T090000
DTEND;TZID=UTC:20241105T103000
DTSTAMP:20260419T183500
CREATED:20180422T152303Z
LAST-MODIFIED:20230117T063933Z
UID:10001631-1730797200-1730802600@desertcruzin.com
SUMMARY:Gears\, Grub & Mud at 1880 Grille
DESCRIPTION:Tuesday – Recurring Monthly Event – Gears\, Grub & Mud at 1880 Grille Organized by The Over the Hill Gang of Virgin Valley 8 AM Mesquite Time – EVERYONE invited.  This is a permanent change. \n 
URL:https://desertcruzin.com/event/gears-grub-mud-at-peggy-sues-diner-2021-11-02/2024-11-05/
LOCATION:1880 Grille in Mesquite\, NV – 1499\, Falcon Ridge Pkwy\, Mesquite\, NV\, 1880 Grille - 1499\, Falcon Ridge Pkwy\, Mesquite\, NV\, 89027\, United States
ATTACH;FMTTYPE=application/pdf:https://desertcruzin.com/wp-content/uploads/2018/04/Gears-Grub-Mud-1880-Grill-@-9-AM.pdf
GEO:36.8102706;-114.0631558
X-APPLE-STRUCTURED-LOCATION;VALUE=URI;X-ADDRESS=1880 Grille in Mesquite NV – 1499 Falcon Ridge Pkwy Mesquite NV 1880 Grille - 1499 Falcon Ridge Pkwy Mesquite NV 89027 United States;X-APPLE-RADIUS=500;X-TITLE=1880 Grille - 1499\, Falcon Ridge Pkwy:geo:-114.0631558,36.8102706
END:VEVENT
BEGIN:VEVENT
DTSTART;TZID=America/Denver:20241106T090000
DTEND;TZID=America/Denver:20241106T103000
DTSTAMP:20260419T183500
CREATED:20211117T064756Z
LAST-MODIFIED:20220820T005732Z
UID:10001903-1730883600-1730889000@desertcruzin.com
SUMMARY:“Hot Rod Hangout” Cracker Barrel
DESCRIPTION:“Hot Rod Hangout” Cracker Barrel Each Wednesday Year-around Hours. We Try To Be Seated by 9:00 AM. And a few get there even earlier to hang around in the parking lot and tell lies I mean stories. \nAll Clubs and Independents Welcome! Recurring Weekly Event 1736 S CONVENTION CENTER DR (ACROSS FROM DIXIE CENTER)\nFree Regular Coffee or Soda for Participants ONLY when Ordering Entre\nJust a Friendly Cruise-In/Show & Shine. \nEveryone is welcome!
URL:https://desertcruzin.com/event/hot-rod-hangout-cracker-barrel/2024-11-06/
LOCATION:UT
ATTACH;FMTTYPE=image/jpeg:https://desertcruzin.com/wp-content/uploads/2021/11/270193725_334732135319972_7615375244078519769_n.jpg
END:VEVENT
BEGIN:VEVENT
DTSTART;TZID=America/Denver:20241111T160000
DTEND;TZID=America/Denver:20241111T170000
DTSTAMP:20260419T183500
CREATED:20230411T055441Z
LAST-MODIFIED:20230411T055441Z
UID:10001966-1731340800-1731344400@desertcruzin.com
SUMMARY:Margarita Monday at Ernesto’s on Sunset
DESCRIPTION:Margarita Monday at Ernesto’s on Sunset see flyer
URL:https://desertcruzin.com/event/margarita-monday-at-ernestos-on-sunset/2024-11-11/
LOCATION:UT
ATTACH;FMTTYPE=application/pdf:https://desertcruzin.com/wp-content/uploads/2023/04/Margarita-Monday.pdf
END:VEVENT
BEGIN:VEVENT
DTSTART;TZID=America/Denver:20241116T080000
DTEND;TZID=America/Denver:20241116T100000
DTSTAMP:20260419T183500
CREATED:20230427T200859Z
LAST-MODIFIED:20230427T200859Z
UID:10002050-1731744000-1731751200@desertcruzin.com
SUMMARY:Cars & Coffee Mesquite Elk’s Lodge
DESCRIPTION:Cars & Coffee Mesquite Elk’s Lodge 8 AM – 10 AM Pacific Time – 1st & 3rd Saturday
URL:https://desertcruzin.com/event/cars-coffee-mesquite-elks-lodge-2/2024-11-16/
LOCATION:UT
END:VEVENT
BEGIN:VEVENT
DTSTART;TZID=America/Denver:20241116T080000
DTEND;TZID=America/Denver:20241116T170000
DTSTAMP:20260419T183500
CREATED:20230411T054310Z
LAST-MODIFIED:20230411T054310Z
UID:10001942-1731744000-1731776400@desertcruzin.com
SUMMARY:Cars & Coffee @ The Coffee Club 10 AM
DESCRIPTION:Cars & Coffee @ The Coffee Club 10 AM \nThird Saturday – Saturday – Recurring Monthly Event – Cars & Coffee at The Coffee Club next to Side Car Café Desert Canyons just off Hwy. 7 between River Rd. exit and Airport exit in Saint George – Desert Rodders Organized Event    Flyer 
URL:https://desertcruzin.com/event/cars-coffee-the-coffee-club-10-am/2024-11-16/
LOCATION:UT
ATTACH;FMTTYPE=application/pdf:https://desertcruzin.com/wp-content/uploads/2023/04/Cars-and-Coffee-at-The-Coffee-Club-10-AM.pdf
END:VEVENT
BEGIN:VEVENT
DTSTART;TZID=America/Denver:20241120T190000
DTEND;TZID=America/Denver:20241120T210000
DTSTAMP:20260419T183500
CREATED:20230427T203103Z
LAST-MODIFIED:20230622T003326Z
UID:10002074-1732129200-1732136400@desertcruzin.com
SUMMARY:Jersey Mikes Cruise-In
DESCRIPTION: Recurring Monthly Event – Jersey Mikes Cruise-In 7 PM – 619 S MALL DR J2-2ST GEORGE UTAH 84790 –\nOrganized by the Desert Rodders
URL:https://desertcruzin.com/event/jersey-mikes-cruise-in/2024-11-20/
LOCATION:UT
END:VEVENT
BEGIN:VEVENT
DTSTART;TZID=America/Denver:20241128T173000
DTEND;TZID=America/Denver:20241128T190000
DTSTAMP:20260419T183500
CREATED:20230630T220134Z
LAST-MODIFIED:20230630T223218Z
UID:10002256-1732815000-1732820400@desertcruzin.com
SUMMARY:Dinner Cruise at the Golden Corral
DESCRIPTION:Golden-Corral
URL:https://desertcruzin.com/event/dinner-cruise-at-the-golden-corral-2/2024-11-28/
LOCATION:UT
ATTACH;FMTTYPE=application/pdf:https://desertcruzin.com/wp-content/uploads/2023/04/Golden-Corral.pdf
END:VEVENT
END:VCALENDAR